BEGIN:VCALENDAR
VERSION:2.0
PRODID:icalendar-ruby
CALSCALE:GREGORIAN
METHOD:PUBLISH
BEGIN:VEVENT
DTSTAMP:20260422T060145Z
UID:158-58170@salivingfaith.org
DTSTART:20260422T233000Z
DTEND:20260423T010000Z
CLASS:PUBLIC
CREATED:20260421T212036
DESCRIPTION: \n\n\n\n\n\n\n\n\n\n\n\n\n\n\n\n\n\n\n\n\n\n\n\n\n\n\n\n\n\n\
 n\n\n\n\n\n\n\n\n\n\n\n\n\n\n\n\n\n\n\n\n\n
LAST-MODIFIED:20260421T212036
LOCATION:1111 Talley Rd. San Antonio\, TX 78253
SUMMARY:Wed. In Word - Experiencing God Class 3
URL;VALUE=URI:https://www.salivingfaith.org/events/wed-in-word-experiencing
 -god-class-3/2026-04-22
END:VEVENT
END:VCALENDAR
