BEGIN:VCALENDAR
VERSION:2.0
PRODID:icalendar-ruby
CALSCALE:GREGORIAN
METHOD:PUBLISH
BEGIN:VEVENT
DTSTAMP:20260423T113451Z
UID:144-58321@salivingfaith.org
DTSTART:20261217T003000Z
DTEND:20261217T013000Z
CLASS:PUBLIC
CREATED:20260422T084608
DESCRIPTION:
LAST-MODIFIED:20260422T084608
LOCATION:
SUMMARY:Wednesday In the Word
URL;VALUE=URI:https://www.salivingfaith.org/events/wednesday-in-the-word--1
 44/2026-12-16
ATTACH;FILENAME=Wed-in-the-Word-2.JPG;FMTTYPE=image/jpeg:https://dq5pwpg1q8
 ru0.cloudfront.net/2025/12/31/18/22/00/652dec14-ff3f-41a9-88f3-1e40c8b9308
 e/Wed-in-the-Word-2.JPG
ATTACH;FILENAME=Slide1.JPG;FMTTYPE=image/jpeg:https://dq5pwpg1q8ru0.cloudfr
 ont.net/2026/04/22/13/44/03/13d81c5e-f4ef-46f2-82c3-3f1da83a4c5c/Slide1.JP
 G
ATTACH;FILENAME=Slide1.JPG;FMTTYPE=image/jpeg:https://dq5pwpg1q8ru0.cloudfr
 ont.net/2026/04/22/13/46/08/0ecd2ae3-dba5-439d-9b99-1718ce6f2ce0/Slide1.JP
 G
END:VEVENT
END:VCALENDAR
